BEGIN:VCALENDAR
VERSION:2.0
PRODID:-//Library Market//iCal Export//EN
BEGIN:VEVENT
SUMMARY:Home Schoolers Haven
UID:55
DTSTAMP:20260420T070400Z
DTSTART:20260505T163000Z
DTEND:20260505T173000Z
LOCATION:754 Prince St, Truro NS B2N 1G9, Canada
ROOM: Home Schoolers Haven
DESCRIPTION:
URL:https://cehpl.librarycalendar.com/event/home-schoolers-haven-55
END:VEVENT
END:VCALENDAR
